View In:
ArcGIS JavaScript
ArcGIS Online Map Viewer
ArcGIS Earth
ArcMap
View Footprint In:
ArcGIS Online Map Viewer
Service Description: haugesund
Name: Merkeplaner/HaugesundNordVest
Description: haugesund
Single Fused Map Cache: false
Extent:
XMin: 280667.5596266534
YMin: 6588459.269016115
XMax: 292417.5596266534
YMax: 6597306.269016115
Spatial Reference: 32632
(32632)
Initial Extent:
XMin: 280667.5596266534
YMin: 6588459.269016115
XMax: 292417.5596266534
YMax: 6597306.269016115
Spatial Reference: 32632
(32632)
Full Extent:
XMin: 280667.5596266534
YMin: 6588459.269016115
XMax: 292417.5596266534
YMax: 6597306.269016115
Spatial Reference: 32632
(32632)
Pixel Size X: 1.0
Pixel Size Y: 1.0
Band Count: 1
Pixel Type: F32
RasterFunction Infos: {"rasterFunctionInfos": [{
"name": "None",
"description": "",
"help": ""
}]}
Mensuration Capabilities: Basic
Has Histograms: true
Has Colormap: false
Has Multi Dimensions : false
Rendering Rule:
Min Scale: 0
Max Scale: 0
Copyright Text:
Service Data Type: esriImageServiceDataTypeGeneric
Min Values: -122.50250244140625
Max Values: -0.3573482930660248
Mean Values: -38.626077709871126
Standard Deviation Values: 24.729072875776634
Object ID Field:
Fields:
None
Default Mosaic Method: Center
Allowed Mosaic Methods:
SortField:
SortValue: null
Mosaic Operator: First
Default Compression Quality: 75
Default Resampling Method: Bilinear
Max Record Count: null
Max Image Height: 4100
Max Image Width: 15000
Max Download Image Count: null
Max Mosaic Image Count: null
Allow Raster Function: true
Allow Copy: null
Allow Analysis: null
Allow Compute TiePoints: false
Supports Statistics: false
Supports Advanced Queries: false
Use StandardizedQueries: true
Raster Type Infos:
Name: Raster Dataset
Description: Supports all ArcGIS Raster Datasets
Help:
Has Raster Attribute Table: false
Edit Fields Info: null
Ownership Based AccessControl For Rasters: null
Child Resources:
Info
Histograms
Key Properties
Legend
Raster Function Infos
Supported Operations:
Export Image
Identify
Measure
Compute Histograms
Compute Statistics Histograms
Get Samples
Compute Class Statistics
Query Boundary
Compute Pixel Location
Compute Angles
Validate
Project