View In:
ArcGIS JavaScript
ArcGIS Online Map Viewer
ArcGIS Earth
ArcMap
View Footprint In:
ArcGIS Online Map Viewer
Service Description: Kragerø
Name: Merkeplaner/Kragerø
Description: Kragerø
Single Fused Map Cache: false
Extent:
XMin: 523267.79
YMin: 6516156.07
XMax: 531304.79
YMax: 6529678.07
Spatial Reference: 32632
(32632)
Initial Extent:
XMin: 523267.79
YMin: 6516156.07
XMax: 531304.79
YMax: 6529678.07
Spatial Reference: 32632
(32632)
Full Extent:
XMin: 523267.79
YMin: 6516156.07
XMax: 531304.79
YMax: 6529678.07
Spatial Reference: 32632
(32632)
Pixel Size X: 1.0000000000000073
Pixel Size Y: 1.0
Band Count: 1
Pixel Type: F32
RasterFunction Infos: {"rasterFunctionInfos": [{
"name": "None",
"description": "",
"help": ""
}]}
Mensuration Capabilities: Basic
Has Histograms: true
Has Colormap: false
Has Multi Dimensions : false
Rendering Rule:
Min Scale: 0
Max Scale: 0
Copyright Text:
Service Data Type: esriImageServiceDataTypeGeneric
Min Values: -153.60000610351562
Max Values: 0.6000000238418579
Mean Values: -41.49591120806395
Standard Deviation Values: 30.82899117281427
Object ID Field:
Fields:
None
Default Mosaic Method: Center
Allowed Mosaic Methods:
SortField:
SortValue: null
Mosaic Operator: First
Default Compression Quality: 75
Default Resampling Method: Bilinear
Max Record Count: null
Max Image Height: 4100
Max Image Width: 15000
Max Download Image Count: null
Max Mosaic Image Count: null
Allow Raster Function: true
Allow Copy: null
Allow Analysis: null
Allow Compute TiePoints: false
Supports Statistics: false
Supports Advanced Queries: false
Use StandardizedQueries: true
Raster Type Infos:
Name: Raster Dataset
Description: Supports all ArcGIS Raster Datasets
Help:
Has Raster Attribute Table: false
Edit Fields Info: null
Ownership Based AccessControl For Rasters: null
Child Resources:
Info
Histograms
Key Properties
Legend
Raster Function Infos
Supported Operations:
Export Image
Identify
Measure
Compute Histograms
Compute Statistics Histograms
Get Samples
Compute Class Statistics
Query Boundary
Compute Pixel Location
Compute Angles
Validate
Project